BEGIN:VCALENDAR
VERSION:2.0
PRODID:-//Lakeland Christian School - ECPv6.15.20//NONSGML v1.0//EN
CALSCALE:GREGORIAN
METHOD:PUBLISH
X-WR-CALNAME:Lakeland Christian School
X-ORIGINAL-URL:https://www.lcsonline.org
X-WR-CALDESC:Events for Lakeland Christian School
REFRESH-INTERVAL;VALUE=DURATION:PT1H
X-Robots-Tag:noindex
X-PUBLISHED-TTL:PT1H
BEGIN:VTIMEZONE
TZID:America/New_York
BEGIN:DAYLIGHT
TZOFFSETFROM:-0500
TZOFFSETTO:-0400
TZNAME:EDT
DTSTART:20250309T070000
END:DAYLIGHT
BEGIN:STANDARD
TZOFFSETFROM:-0400
TZOFFSETTO:-0500
TZNAME:EST
DTSTART:20251102T060000
END:STANDARD
BEGIN:DAYLIGHT
TZOFFSETFROM:-0500
TZOFFSETTO:-0400
TZNAME:EDT
DTSTART:20260308T070000
END:DAYLIGHT
BEGIN:STANDARD
TZOFFSETFROM:-0400
TZOFFSETTO:-0500
TZNAME:EST
DTSTART:20261101T060000
END:STANDARD
BEGIN:DAYLIGHT
TZOFFSETFROM:-0500
TZOFFSETTO:-0400
TZNAME:EDT
DTSTART:20270314T070000
END:DAYLIGHT
BEGIN:STANDARD
TZOFFSETFROM:-0400
TZOFFSETTO:-0500
TZNAME:EST
DTSTART:20271107T060000
END:STANDARD
END:VTIMEZONE
BEGIN:VEVENT
DTSTART;TZID=America/New_York:20260409T160000
DTEND;TZID=America/New_York:20260409T160000
DTSTAMP:20260421T080802
CREATED:20260407T161936Z
LAST-MODIFIED:20260409T182012Z
UID:10000726-1775750400-1775750400@www.lcsonline.org
SUMMARY:Girls Tennis vs. George Jenkins High School
DESCRIPTION:Girls Tennis vs. George Jenkins High School
URL:https://www.lcsonline.org/event/girls-tennis-vs-george-jenkins-high-school/
CATEGORIES:School
END:VEVENT
BEGIN:VEVENT
DTSTART;TZID=America/New_York:20260409T160000
DTEND;TZID=America/New_York:20260409T160000
DTSTAMP:20260421T080802
CREATED:20260407T161936Z
LAST-MODIFIED:20260409T182012Z
UID:10000727-1775750400-1775750400@www.lcsonline.org
SUMMARY:Boys Tennis vs. George Jenkins High School
DESCRIPTION:Boys Tennis vs. George Jenkins High School
URL:https://www.lcsonline.org/event/boys-tennis-vs-george-jenkins-high-school/
CATEGORIES:School
END:VEVENT
BEGIN:VEVENT
DTSTART;TZID=America/New_York:20260410T160000
DTEND;TZID=America/New_York:20260410T160000
DTSTAMP:20260421T080802
CREATED:20260410T120523Z
LAST-MODIFIED:20260410T193436Z
UID:10000795-1775836800-1775836800@www.lcsonline.org
SUMMARY:Boys Tennis vs. Lake Wales HS
DESCRIPTION:Boys Tennis vs. Lake Wales HS
URL:https://www.lcsonline.org/event/boys-tennis-vs-lake-wales-hs/
CATEGORIES:School
END:VEVENT
BEGIN:VEVENT
DTSTART;TZID=America/New_York:20260410T190000
DTEND;TZID=America/New_York:20260410T190000
DTSTAMP:20260421T080802
CREATED:20260311T174939Z
LAST-MODIFIED:20260410T224948Z
UID:10000716-1775847600-1775847600@www.lcsonline.org
SUMMARY:Boys Lacrosse - District Quarterfinal
DESCRIPTION:Boys Lacrosse – District Quarterfinal
URL:https://www.lcsonline.org/event/boys-lacrosse-district-quarterfinal/
CATEGORIES:School
END:VEVENT
BEGIN:VEVENT
DTSTART;TZID=America/New_York:20260410T190000
DTEND;TZID=America/New_York:20260410T190000
DTSTAMP:20260421T080802
CREATED:20260408T143433Z
LAST-MODIFIED:20260410T224948Z
UID:10000748-1775847600-1775847600@www.lcsonline.org
SUMMARY:Varsity Baseball vs. George Jenkins HS
DESCRIPTION:Varsity Baseball vs. George Jenkins HS
URL:https://www.lcsonline.org/event/varsity-baseball-vs-george-jenkins-hs/
CATEGORIES:School
END:VEVENT
BEGIN:VEVENT
DTSTART;TZID=America/New_York:20260414T190000
DTEND;TZID=America/New_York:20260414T190000
DTSTAMP:20260421T080802
CREATED:20260311T174940Z
LAST-MODIFIED:20260414T223503Z
UID:10000718-1776193200-1776193200@www.lcsonline.org
SUMMARY:Boys Lacrosse - District Semifinal
DESCRIPTION:Boys Lacrosse – District Semifinal
URL:https://www.lcsonline.org/event/boys-lacrosse-district-semifinal/
LOCATION:Jesuit High School
CATEGORIES:School
END:VEVENT
BEGIN:VEVENT
DTSTART;TZID=America/New_York:20260414T193000
DTEND;TZID=America/New_York:20260414T193000
DTSTAMP:20260421T080802
CREATED:20260413T183506Z
LAST-MODIFIED:20260414T230501Z
UID:10000807-1776195000-1776195000@www.lcsonline.org
SUMMARY:Girls Lacrosse - District Semifinal
DESCRIPTION:Girls Lacrosse – District Semifinal
URL:https://www.lcsonline.org/event/girls-lacrosse-district-semifinal-2/
CATEGORIES:School
END:VEVENT
BEGIN:VEVENT
DTSTART;TZID=America/New_York:20260416T173000
DTEND;TZID=America/New_York:20260416T173000
DTSTAMP:20260421T080802
CREATED:20260223T182251Z
LAST-MODIFIED:20260416T210433Z
UID:10000598-1776360600-1776360600@www.lcsonline.org
SUMMARY:All School Art Show
DESCRIPTION:Event will be held in various locations on campus. CafeteriaArt WingRISE Restore Cafe
URL:https://www.lcsonline.org/event/all-school-art-show/
CATEGORIES:School
END:VEVENT
BEGIN:VEVENT
DTSTART;TZID=America/New_York:20260416T190000
DTEND;TZID=America/New_York:20260416T190000
DTSTAMP:20260421T080802
CREATED:20260311T174940Z
LAST-MODIFIED:20260416T223600Z
UID:10000719-1776366000-1776366000@www.lcsonline.org
SUMMARY:Girls Varsity Lacrosse - District Final
DESCRIPTION:Girls Varsity Lacrosse – District Final
URL:https://www.lcsonline.org/event/girls-varsity-lacrosse-district-final/
CATEGORIES:School
END:VEVENT
BEGIN:VEVENT
DTSTART;TZID=America/New_York:20260420T083000
DTEND;TZID=America/New_York:20260420T100000
DTSTAMP:20260421T080802
CREATED:20260223T182251Z
LAST-MODIFIED:20260420T134947Z
UID:10000602-1776673800-1776679200@www.lcsonline.org
SUMMARY:K5 & 1st Grade Piano Recital
DESCRIPTION:K5 & 1st Grade Piano Recital
URL:https://www.lcsonline.org/event/k5-1st-grade-piano-recital/
LOCATION:Cafeteria
CATEGORIES:School
END:VEVENT
BEGIN:VEVENT
DTSTART;TZID=America/New_York:20260420T183000
DTEND;TZID=America/New_York:20260420T203000
DTSTAMP:20260421T080802
CREATED:20260223T182252Z
LAST-MODIFIED:20260421T000438Z
UID:10000603-1776709800-1776717000@www.lcsonline.org
SUMMARY:Middle School Piano & Voice Recital
DESCRIPTION:Middle School Piano & Voice Recital
URL:https://www.lcsonline.org/event/middle-school-piano-voice-recital/
LOCATION:Cafeteria
CATEGORIES:School
END:VEVENT
BEGIN:VEVENT
DTSTART;TZID=America/New_York:20260421T183000
DTEND;TZID=America/New_York:20260421T203000
DTSTAMP:20260421T080802
CREATED:20260223T182252Z
LAST-MODIFIED:20260421T113438Z
UID:10000605-1776796200-1776803400@www.lcsonline.org
SUMMARY:High School Piano & Voice Recital
DESCRIPTION:High School Piano & Voice Recital
URL:https://www.lcsonline.org/event/high-school-piano-voice-recital/
LOCATION:Cafeteria
CATEGORIES:School
END:VEVENT
BEGIN:VEVENT
DTSTART;VALUE=DATE:20260422
DTEND;VALUE=DATE:20260423
DTSTAMP:20260421T080802
CREATED:20260417T152038Z
LAST-MODIFIED:20260421T113438Z
UID:10000810-1776816000-1776902399@www.lcsonline.org
SUMMARY:Girls Lacrosse - Regional Quarterfinal
DESCRIPTION:Girls Lacrosse – Regional Quarterfinal
URL:https://www.lcsonline.org/event/girls-lacrosse-regional-quarterfinal/
LOCATION:Lake Highland Preparatory School
CATEGORIES:School
END:VEVENT
BEGIN:VEVENT
DTSTART;TZID=America/New_York:20260422T083000
DTEND;TZID=America/New_York:20260422T100000
DTSTAMP:20260421T080802
CREATED:20260223T182252Z
LAST-MODIFIED:20260421T113438Z
UID:10000606-1776846600-1776852000@www.lcsonline.org
SUMMARY:2nd & 3rd Grade Piano Recital
DESCRIPTION:2nd & 3rd Grade Piano Recital
URL:https://www.lcsonline.org/event/2nd-3rd-grade-piano-recital/
LOCATION:Cafeteria
CATEGORIES:School
END:VEVENT
BEGIN:VEVENT
DTSTART;TZID=America/New_York:20260424T080000
DTEND;TZID=America/New_York:20260424T190000
DTSTAMP:20260421T080802
CREATED:20260302T200614Z
LAST-MODIFIED:20260421T113438Z
UID:10000712-1777017600-1777057200@www.lcsonline.org
SUMMARY:RISE Expo
DESCRIPTION:RISE Expo
URL:https://www.lcsonline.org/event/rise-expo/
CATEGORIES:School
END:VEVENT
BEGIN:VEVENT
DTSTART;TZID=America/New_York:20260424T083000
DTEND;TZID=America/New_York:20260424T100000
DTSTAMP:20260421T080802
CREATED:20260223T182252Z
LAST-MODIFIED:20260421T113438Z
UID:10000607-1777019400-1777024800@www.lcsonline.org
SUMMARY:4th & 5th Grade Piano Recital
DESCRIPTION:4th & 5th Grade Piano Recital
URL:https://www.lcsonline.org/event/4th-5th-grade-piano-recital/
LOCATION:Cafeteria
CATEGORIES:School
END:VEVENT
BEGIN:VEVENT
DTSTART;TZID=America/New_York:20260425T190000
DTEND;TZID=America/New_York:20260425T190000
DTSTAMP:20260421T080802
CREATED:20260421T103612Z
LAST-MODIFIED:20260421T113438Z
UID:10000811-1777143600-1777143600@www.lcsonline.org
SUMMARY:Baseball - Regional Quarterfinal
DESCRIPTION:Baseball – Regional Quarterfinal
URL:https://www.lcsonline.org/event/baseball-regional-quarterfinal/
CATEGORIES:School
END:VEVENT
BEGIN:VEVENT
DTSTART;VALUE=DATE:20260427
DTEND;VALUE=DATE:20260428
DTSTAMP:20260421T080802
CREATED:20260302T193445Z
LAST-MODIFIED:20260421T113438Z
UID:10000709-1777248000-1777334399@www.lcsonline.org
SUMMARY:Varsity Softball - District Playin Game
DESCRIPTION:Varsity Softball – District Playin Game
URL:https://www.lcsonline.org/event/varsity-softball-district-playin-game/
CATEGORIES:School
END:VEVENT
BEGIN:VEVENT
DTSTART;VALUE=DATE:20260428
DTEND;VALUE=DATE:20260429
DTSTAMP:20260421T080802
CREATED:20260302T193445Z
LAST-MODIFIED:20260421T113438Z
UID:10000710-1777334400-1777420799@www.lcsonline.org
SUMMARY:Varsity Softball - District Semifinal
DESCRIPTION:Varsity Softball – District Semifinal
URL:https://www.lcsonline.org/event/varsity-softball-district-semifinal/
LOCATION:Westside Softball Complex
CATEGORIES:School
END:VEVENT
BEGIN:VEVENT
DTSTART;VALUE=DATE:20260428
DTEND;VALUE=DATE:20260429
DTSTAMP:20260421T080802
CREATED:20260330T180507Z
LAST-MODIFIED:20260421T113438Z
UID:10000722-1777334400-1777420799@www.lcsonline.org
SUMMARY:Day of Giving
DESCRIPTION:Day of Giving
URL:https://www.lcsonline.org/event/day-of-giving/
CATEGORIES:School
END:VEVENT
BEGIN:VEVENT
DTSTART;TZID=America/New_York:20260428T080000
DTEND;TZID=America/New_York:20260428T090000
DTSTAMP:20260421T080802
CREATED:20260223T182252Z
LAST-MODIFIED:20260421T113438Z
UID:10000608-1777363200-1777366800@www.lcsonline.org
SUMMARY:Women of Impact - Restore and Refill
DESCRIPTION:Women of Impact – Restore and Refill
URL:https://www.lcsonline.org/event/women-of-impact-restore-and-refill-3/
LOCATION:RISE Restore Cafe
CATEGORIES:School
END:VEVENT
BEGIN:VEVENT
DTSTART;TZID=America/New_York:20260430T180000
DTEND;TZID=America/New_York:20260430T180000
DTSTAMP:20260421T080802
CREATED:20260302T193445Z
LAST-MODIFIED:20260421T113438Z
UID:10000711-1777572000-1777572000@www.lcsonline.org
SUMMARY:Varsity Softball - District Final
DESCRIPTION:Varsity Softball – District Final
URL:https://www.lcsonline.org/event/varsity-softball-district-final/
LOCATION:Westside Softball Complex
CATEGORIES:School
END:VEVENT
BEGIN:VEVENT
DTSTART;VALUE=DATE:20260504
DTEND;VALUE=DATE:20260505
DTSTAMP:20260421T080802
CREATED:20260223T182252Z
LAST-MODIFIED:20260421T113438Z
UID:10000610-1777852800-1777939199@www.lcsonline.org
SUMMARY:AP Exams
DESCRIPTION:AP Exams
URL:https://www.lcsonline.org/event/ap-exams/
CATEGORIES:School
END:VEVENT
BEGIN:VEVENT
DTSTART;TZID=America/New_York:20260504T183000
DTEND;TZID=America/New_York:20260504T210000
DTSTAMP:20260421T080802
CREATED:20260223T182253Z
LAST-MODIFIED:20260421T113439Z
UID:10000612-1777919400-1777928400@www.lcsonline.org
SUMMARY:Spring Band Concert
DESCRIPTION:Spring Band Concert
URL:https://www.lcsonline.org/event/spring-band-concert/
LOCATION:Cafeteria
CATEGORIES:School
END:VEVENT
BEGIN:VEVENT
DTSTART;VALUE=DATE:20260505
DTEND;VALUE=DATE:20260506
DTSTAMP:20260421T080802
CREATED:20260223T182253Z
LAST-MODIFIED:20260421T113439Z
UID:10000611-1777939200-1778025599@www.lcsonline.org
SUMMARY:AP Exams
DESCRIPTION:AP Exams
URL:https://www.lcsonline.org/event/ap-exams-2/
CATEGORIES:School
END:VEVENT
BEGIN:VEVENT
DTSTART;VALUE=DATE:20260506
DTEND;VALUE=DATE:20260507
DTSTAMP:20260421T080802
CREATED:20260223T182253Z
LAST-MODIFIED:20260421T113439Z
UID:10000613-1778025600-1778111999@www.lcsonline.org
SUMMARY:AP Exams
DESCRIPTION:AP Exams
URL:https://www.lcsonline.org/event/ap-exams-3/
CATEGORIES:School
END:VEVENT
BEGIN:VEVENT
DTSTART;VALUE=DATE:20260507
DTEND;VALUE=DATE:20260508
DTSTAMP:20260421T080802
CREATED:20260223T182253Z
LAST-MODIFIED:20260421T113439Z
UID:10000615-1778112000-1778198399@www.lcsonline.org
SUMMARY:AP Exams
DESCRIPTION:AP Exams
URL:https://www.lcsonline.org/event/ap-exams-4/
CATEGORIES:School
END:VEVENT
BEGIN:VEVENT
DTSTART;TZID=America/New_York:20260507T183000
DTEND;TZID=America/New_York:20260507T210000
DTSTAMP:20260421T080802
CREATED:20260312T144953Z
LAST-MODIFIED:20260421T113439Z
UID:10000721-1778178600-1778187600@www.lcsonline.org
SUMMARY:Spring Choir Concert
DESCRIPTION:Spring Choir Concert
URL:https://www.lcsonline.org/event/spring-choir-concert/
LOCATION:Cafeteria
CATEGORIES:School
END:VEVENT
BEGIN:VEVENT
DTSTART;VALUE=DATE:20260508
DTEND;VALUE=DATE:20260509
DTSTAMP:20260421T080802
CREATED:20260223T182253Z
LAST-MODIFIED:20260421T113439Z
UID:10000617-1778198400-1778284799@www.lcsonline.org
SUMMARY:AP Exams
DESCRIPTION:AP Exams
URL:https://www.lcsonline.org/event/ap-exams-5/
CATEGORIES:School
END:VEVENT
BEGIN:VEVENT
DTSTART;VALUE=DATE:20260511
DTEND;VALUE=DATE:20260512
DTSTAMP:20260421T080802
CREATED:20260223T182254Z
LAST-MODIFIED:20260421T113439Z
UID:10000621-1778457600-1778543999@www.lcsonline.org
SUMMARY:AP Exams
DESCRIPTION:AP Exams
URL:https://www.lcsonline.org/event/ap-exams-6/
CATEGORIES:School
END:VEVENT
END:VCALENDAR