BEGIN:VCALENDAR
VERSION:2.0
PRODID:-//Lakeland Christian School - ECPv6.15.20//NONSGML v1.0//EN
CALSCALE:GREGORIAN
METHOD:PUBLISH
X-ORIGINAL-URL:https://www.lcsonline.org
X-WR-CALDESC:Events for Lakeland Christian School
REFRESH-INTERVAL;VALUE=DURATION:PT1H
X-Robots-Tag:noindex
X-PUBLISHED-TTL:PT1H
BEGIN:VTIMEZONE
TZID:America/New_York
BEGIN:DAYLIGHT
TZOFFSETFROM:-0500
TZOFFSETTO:-0400
TZNAME:EDT
DTSTART:20250309T070000
END:DAYLIGHT
BEGIN:STANDARD
TZOFFSETFROM:-0400
TZOFFSETTO:-0500
TZNAME:EST
DTSTART:20251102T060000
END:STANDARD
BEGIN:DAYLIGHT
TZOFFSETFROM:-0500
TZOFFSETTO:-0400
TZNAME:EDT
DTSTART:20260308T070000
END:DAYLIGHT
BEGIN:STANDARD
TZOFFSETFROM:-0400
TZOFFSETTO:-0500
TZNAME:EST
DTSTART:20261101T060000
END:STANDARD
BEGIN:DAYLIGHT
TZOFFSETFROM:-0500
TZOFFSETTO:-0400
TZNAME:EDT
DTSTART:20270314T070000
END:DAYLIGHT
BEGIN:STANDARD
TZOFFSETFROM:-0400
TZOFFSETTO:-0500
TZNAME:EST
DTSTART:20271107T060000
END:STANDARD
END:VTIMEZONE
BEGIN:VEVENT
DTSTART;VALUE=DATE:20260515
DTEND;VALUE=DATE:20260516
DTSTAMP:20260425T065517
CREATED:20260223T182254Z
LAST-MODIFIED:20260425T103441Z
UID:10000625-1778803200-1778889599@www.lcsonline.org
SUMMARY:AP Exams
DESCRIPTION:AP Exams
URL:https://www.lcsonline.org/event/ap-exams-10/
CATEGORIES:School
END:VEVENT
BEGIN:VEVENT
DTSTART;TZID=America/New_York:20260515T040000
DTEND;TZID=America/New_York:20260515T040000
DTSTAMP:20260425T065517
CREATED:20260424T180607Z
LAST-MODIFIED:20260425T103441Z
UID:10000828-1778817600-1778817600@www.lcsonline.org
SUMMARY:Senior Trip
DESCRIPTION:Senior Trip
URL:https://www.lcsonline.org/event/senior-trip-5/
CATEGORIES:School
END:VEVENT
BEGIN:VEVENT
DTSTART;VALUE=DATE:20260518
DTEND;VALUE=DATE:20260519
DTSTAMP:20260425T065517
CREATED:20260223T182254Z
LAST-MODIFIED:20260425T103441Z
UID:10000627-1779062400-1779148799@www.lcsonline.org
SUMMARY:Senior Trip
DESCRIPTION:Senior Trip
URL:https://www.lcsonline.org/event/senior-trip-2/
CATEGORIES:School
END:VEVENT
BEGIN:VEVENT
DTSTART;VALUE=DATE:20260519
DTEND;VALUE=DATE:20260520
DTSTAMP:20260425T065517
CREATED:20260223T182254Z
LAST-MODIFIED:20260425T103441Z
UID:10000628-1779148800-1779235199@www.lcsonline.org
SUMMARY:Senior Trip
DESCRIPTION:Senior Trip
URL:https://www.lcsonline.org/event/senior-trip-3/
CATEGORIES:School
END:VEVENT
BEGIN:VEVENT
DTSTART;VALUE=DATE:20260520
DTEND;VALUE=DATE:20260521
DTSTAMP:20260425T065517
CREATED:20260223T182255Z
LAST-MODIFIED:20260425T103441Z
UID:10000632-1779235200-1779321599@www.lcsonline.org
SUMMARY:Senior Trip
DESCRIPTION:Senior Trip
URL:https://www.lcsonline.org/event/senior-trip-4/
CATEGORIES:School
END:VEVENT
BEGIN:VEVENT
DTSTART;TZID=America/New_York:20260521T190000
DTEND;TZID=America/New_York:20260521T203000
DTSTAMP:20260425T065517
CREATED:20260223T182255Z
LAST-MODIFIED:20260425T103442Z
UID:10000636-1779390000-1779395400@www.lcsonline.org
SUMMARY:Baccalaureate
DESCRIPTION:Baccalaureate
URL:https://www.lcsonline.org/event/baccalaureate/
CATEGORIES:School
END:VEVENT
BEGIN:VEVENT
DTSTART;TZID=America/New_York:20260522T160000
DTEND;TZID=America/New_York:20260522T190000
DTSTAMP:20260425T065517
CREATED:20260223T182256Z
LAST-MODIFIED:20260425T103442Z
UID:10000638-1779465600-1779476400@www.lcsonline.org
SUMMARY:Commencement
DESCRIPTION:Commencement
URL:https://www.lcsonline.org/event/commencement/
LOCATION:Family Worship Center
CATEGORIES:School
END:VEVENT
BEGIN:VEVENT
DTSTART;VALUE=DATE:20260525
DTEND;VALUE=DATE:20260526
DTSTAMP:20260425T065517
CREATED:20260223T182256Z
LAST-MODIFIED:20260425T103442Z
UID:10000639-1779667200-1779753599@www.lcsonline.org
SUMMARY:Memorial Day Holiday - No School
DESCRIPTION:Memorial Day Holiday – No School
URL:https://www.lcsonline.org/event/memorial-day-holiday-no-school/
CATEGORIES:School
END:VEVENT
BEGIN:VEVENT
DTSTART;VALUE=DATE:20260811
DTEND;VALUE=DATE:20260812
DTSTAMP:20260425T065517
CREATED:20260225T195119Z
LAST-MODIFIED:20260425T103442Z
UID:10000659-1786406400-1786492799@www.lcsonline.org
SUMMARY:First Day of School - 1st - 12th Grade
DESCRIPTION:First Day of School – 1st – 12th Grade
URL:https://www.lcsonline.org/event/first-day-of-school-1st-12th-grade/
CATEGORIES:School
END:VEVENT
BEGIN:VEVENT
DTSTART;VALUE=DATE:20260812
DTEND;VALUE=DATE:20260813
DTSTAMP:20260425T065517
CREATED:20260225T195119Z
LAST-MODIFIED:20260425T103442Z
UID:10000660-1786492800-1786579199@www.lcsonline.org
SUMMARY:First Day of School - K3-K5
DESCRIPTION:First Day of School – K3-K5
URL:https://www.lcsonline.org/event/first-day-of-school-k3-k5/
CATEGORIES:School
END:VEVENT
BEGIN:VEVENT
DTSTART;TZID=America/New_York:20260813T180000
DTEND;TZID=America/New_York:20260813T180000
DTSTAMP:20260425T065517
CREATED:20260408T171948Z
LAST-MODIFIED:20260425T103442Z
UID:10000767-1786644000-1786644000@www.lcsonline.org
SUMMARY:Varsity Volleyball - Preseason @ Santa Fe Cath.
DESCRIPTION:Varsity Volleyball – Preseason @ Santa Fe Cath.
URL:https://www.lcsonline.org/event/varsity-volleyball-preseason-santa-fe-cath/
LOCATION:Santa Fe Catholic High School
CATEGORIES:School
END:VEVENT
BEGIN:VEVENT
DTSTART;TZID=America/New_York:20260814T193000
DTEND;TZID=America/New_York:20260814T193000
DTSTAMP:20260425T065517
CREATED:20260410T160445Z
LAST-MODIFIED:20260425T103442Z
UID:10000796-1786735800-1786735800@www.lcsonline.org
SUMMARY:Varsity Football - Preseason Classic
DESCRIPTION:Varsity Football – Preseason Classic
URL:https://www.lcsonline.org/event/varsity-football-preseason-classic/
CATEGORIES:School
END:VEVENT
BEGIN:VEVENT
DTSTART;TZID=America/New_York:20260817T173000
DTEND;TZID=America/New_York:20260817T173000
DTSTAMP:20260425T065517
CREATED:20260408T165043Z
LAST-MODIFIED:20260425T103442Z
UID:10000758-1786987800-1786987800@www.lcsonline.org
SUMMARY:JV Volleyball @ Santa Fe Catholic
DESCRIPTION:JV Volleyball @ Santa Fe Catholic
URL:https://www.lcsonline.org/event/jv-volleyball-santa-fe-catholic/
LOCATION:Santa Fe Catholic High School
CATEGORIES:School
END:VEVENT
BEGIN:VEVENT
DTSTART;TZID=America/New_York:20260817T183000
DTEND;TZID=America/New_York:20260817T183000
DTSTAMP:20260425T065517
CREATED:20260408T171948Z
LAST-MODIFIED:20260425T103442Z
UID:10000768-1786991400-1786991400@www.lcsonline.org
SUMMARY:Varsity Volleyball @ Santa Fe Catholic
DESCRIPTION:Varsity Volleyball @ Santa Fe Catholic
URL:https://www.lcsonline.org/event/varsity-volleyball-santa-fe-catholic/
LOCATION:Santa Fe Catholic High School
CATEGORIES:School
END:VEVENT
BEGIN:VEVENT
DTSTART;TZID=America/New_York:20260818T160000
DTEND;TZID=America/New_York:20260818T160000
DTSTAMP:20260425T065517
CREATED:20260423T130604Z
LAST-MODIFIED:20260425T103442Z
UID:10000815-1787068800-1787068800@www.lcsonline.org
SUMMARY:Girls Golf vs. McKeel Academy
DESCRIPTION:Girls Golf vs. McKeel Academy
URL:https://www.lcsonline.org/event/girls-golf-vs-mckeel-academy/
LOCATION:Cleveland Heights Golf Course
CATEGORIES:School
END:VEVENT
BEGIN:VEVENT
DTSTART;TZID=America/New_York:20260820T153000
DTEND;TZID=America/New_York:20260820T153000
DTSTAMP:20260425T065517
CREATED:20260423T130604Z
LAST-MODIFIED:20260425T103442Z
UID:10000816-1787239800-1787239800@www.lcsonline.org
SUMMARY:Girls Golf @ Frostproof High School
DESCRIPTION:Girls Golf @ Frostproof High School
URL:https://www.lcsonline.org/event/girls-golf-frostproof-high-school/
LOCATION:River Greens Golf Course
CATEGORIES:School
END:VEVENT
BEGIN:VEVENT
DTSTART;VALUE=DATE:20260821
DTEND;VALUE=DATE:20260822
DTSTAMP:20260425T065517
CREATED:20260408T171948Z
LAST-MODIFIED:20260425T103442Z
UID:10000769-1787270400-1787356799@www.lcsonline.org
SUMMARY:Varsity Volleyball - SSAC Tourn.
DESCRIPTION:Varsity Volleyball – SSAC Tourn.
URL:https://www.lcsonline.org/event/varsity-volleyball-ssac-tourn/
LOCATION:AdventHealth Field House
CATEGORIES:School
END:VEVENT
BEGIN:VEVENT
DTSTART;TZID=America/New_York:20260821T193000
DTEND;TZID=America/New_York:20260821T193000
DTSTAMP:20260425T065517
CREATED:20260410T160445Z
LAST-MODIFIED:20260425T103442Z
UID:10000797-1787340600-1787340600@www.lcsonline.org
SUMMARY:Varsity Football vs. Santa Fe Catholic
DESCRIPTION:Varsity Football vs. Santa Fe Catholic
URL:https://www.lcsonline.org/event/varsity-football-vs-santa-fe-catholic/
CATEGORIES:School
END:VEVENT
BEGIN:VEVENT
DTSTART;VALUE=DATE:20260822
DTEND;VALUE=DATE:20260823
DTSTAMP:20260425T065517
CREATED:20260408T171948Z
LAST-MODIFIED:20260425T103442Z
UID:10000770-1787356800-1787443199@www.lcsonline.org
SUMMARY:Varsity Volleyball - SSAC Tourn.
DESCRIPTION:Varsity Volleyball – SSAC Tourn.
URL:https://www.lcsonline.org/event/varsity-volleyball-ssac-tourn-2/
LOCATION:AdventHealth Field House
CATEGORIES:School
END:VEVENT
BEGIN:VEVENT
DTSTART;TZID=America/New_York:20260825T173000
DTEND;TZID=America/New_York:20260825T173000
DTSTAMP:20260425T065517
CREATED:20260408T165043Z
LAST-MODIFIED:20260425T103443Z
UID:10000759-1787679000-1787679000@www.lcsonline.org
SUMMARY:JV Volleyball @ Ridgeview Global Studies
DESCRIPTION:JV Volleyball @ Ridgeview Global Studies
URL:https://www.lcsonline.org/event/jv-volleyball-ridgeview-global-studies/
LOCATION:Ridgeview Global Studies Academy
CATEGORIES:School
END:VEVENT
BEGIN:VEVENT
DTSTART;TZID=America/New_York:20260825T183000
DTEND;TZID=America/New_York:20260825T183000
DTSTAMP:20260425T065517
CREATED:20260408T171948Z
LAST-MODIFIED:20260425T103443Z
UID:10000771-1787682600-1787682600@www.lcsonline.org
SUMMARY:Varsity Volleyball @ Ridgeview Global Studies
DESCRIPTION:Varsity Volleyball @ Ridgeview Global Studies
URL:https://www.lcsonline.org/event/varsity-volleyball-ridgeview-global-studies/
LOCATION:Ridgeview Global Studies Academy
CATEGORIES:School
END:VEVENT
BEGIN:VEVENT
DTSTART;TZID=America/New_York:20260827T163000
DTEND;TZID=America/New_York:20260827T163000
DTSTAMP:20260425T065517
CREATED:20260407T174941Z
LAST-MODIFIED:20260425T103443Z
UID:10000737-1787848200-1787848200@www.lcsonline.org
SUMMARY:MS-A Volleyball @ All Saints' Academy
DESCRIPTION:MS-A Volleyball @ All Saints’ Academy
URL:https://www.lcsonline.org/event/ms-a-volleyball-all-saints-academy/
LOCATION:All Saints’ Academy
CATEGORIES:School
END:VEVENT
BEGIN:VEVENT
DTSTART;TZID=America/New_York:20260827T173000
DTEND;TZID=America/New_York:20260827T173000
DTSTAMP:20260425T065517
CREATED:20260408T161946Z
LAST-MODIFIED:20260425T103443Z
UID:10000749-1787851800-1787851800@www.lcsonline.org
SUMMARY:JV Volleyball @ All Saints' Academy
DESCRIPTION:JV Volleyball @ All Saints’ Academy
URL:https://www.lcsonline.org/event/jv-volleyball-all-saints-academy/
LOCATION:All Saints’ Academy
CATEGORIES:School
END:VEVENT
BEGIN:VEVENT
DTSTART;TZID=America/New_York:20260827T180000
DTEND;TZID=America/New_York:20260827T180000
DTSTAMP:20260425T065517
CREATED:20260408T174944Z
LAST-MODIFIED:20260425T103443Z
UID:10000783-1787853600-1787853600@www.lcsonline.org
SUMMARY:MS Football @ Foundation Academy
DESCRIPTION:MS Football @ Foundation Academy
URL:https://www.lcsonline.org/event/ms-football-foundation-academy/
LOCATION:Foundation Academy
CATEGORIES:School
END:VEVENT
BEGIN:VEVENT
DTSTART;TZID=America/New_York:20260827T190000
DTEND;TZID=America/New_York:20260827T190000
DTSTAMP:20260425T065517
CREATED:20260408T171948Z
LAST-MODIFIED:20260425T103443Z
UID:10000772-1787857200-1787857200@www.lcsonline.org
SUMMARY:Varsity Volleyball @ All Saints' Academy
DESCRIPTION:Varsity Volleyball @ All Saints’ Academy
URL:https://www.lcsonline.org/event/varsity-volleyball-all-saints-academy/
LOCATION:All Saints’ Academy
CATEGORIES:School
END:VEVENT
BEGIN:VEVENT
DTSTART;VALUE=DATE:20260828
DTEND;VALUE=DATE:20260829
DTSTAMP:20260425T065517
CREATED:20260410T160446Z
LAST-MODIFIED:20260425T103443Z
UID:10000798-1787875200-1787961599@www.lcsonline.org
SUMMARY:Varsity Football @ McLaughlin High School
DESCRIPTION:Varsity Football @ McLaughlin High School
URL:https://www.lcsonline.org/event/varsity-football-mclaughlin-high-school/
LOCATION:McLaughlin High School
CATEGORIES:School
END:VEVENT
BEGIN:VEVENT
DTSTART;TZID=America/New_York:20260831T180000
DTEND;TZID=America/New_York:20260831T180000
DTSTAMP:20260425T065517
CREATED:20260408T161946Z
LAST-MODIFIED:20260425T103443Z
UID:10000750-1788199200-1788199200@www.lcsonline.org
SUMMARY:JV Volleyball @ South Sumter High School
DESCRIPTION:JV Volleyball @ South Sumter High School
URL:https://www.lcsonline.org/event/jv-volleyball-south-sumter-high-school/
LOCATION:South Sumter High School
CATEGORIES:School
END:VEVENT
BEGIN:VEVENT
DTSTART;TZID=America/New_York:20260831T190000
DTEND;TZID=America/New_York:20260831T190000
DTSTAMP:20260425T065517
CREATED:20260408T171949Z
LAST-MODIFIED:20260425T103443Z
UID:10000773-1788202800-1788202800@www.lcsonline.org
SUMMARY:Varsity Volleyball @ South Sumter HS
DESCRIPTION:Varsity Volleyball @ South Sumter HS
URL:https://www.lcsonline.org/event/varsity-volleyball-south-sumter-hs/
LOCATION:South Sumter High School
CATEGORIES:School
END:VEVENT
BEGIN:VEVENT
DTSTART;TZID=America/New_York:20260901T160000
DTEND;TZID=America/New_York:20260901T160000
DTSTAMP:20260425T065517
CREATED:20260423T130605Z
LAST-MODIFIED:20260425T103443Z
UID:10000817-1788278400-1788278400@www.lcsonline.org
SUMMARY:Girls Golf vs. Mulberry High School
DESCRIPTION:Girls Golf vs. Mulberry High School
URL:https://www.lcsonline.org/event/girls-golf-vs-mulberry-high-school/
LOCATION:Cleveland Heights Golf Course
CATEGORIES:School
END:VEVENT
BEGIN:VEVENT
DTSTART;TZID=America/New_York:20260901T163000
DTEND;TZID=America/New_York:20260901T163000
DTSTAMP:20260425T065517
CREATED:20260407T174941Z
LAST-MODIFIED:20260425T103443Z
UID:10000738-1788280200-1788280200@www.lcsonline.org
SUMMARY:MS-A Volleyball vs. Winter Haven Christian
DESCRIPTION:MS-A Volleyball vs. Winter Haven Christian
URL:https://www.lcsonline.org/event/ms-a-volleyball-vs-winter-haven-christian/
CATEGORIES:School
END:VEVENT
END:VCALENDAR