BEGIN:VCALENDAR
VERSION:2.0
PRODID:-//Lakeland Christian School - ECPv6.15.20//NONSGML v1.0//EN
CALSCALE:GREGORIAN
METHOD:PUBLISH
X-ORIGINAL-URL:https://www.lcsonline.org
X-WR-CALDESC:Events for Lakeland Christian School
REFRESH-INTERVAL;VALUE=DURATION:PT1H
X-Robots-Tag:noindex
X-PUBLISHED-TTL:PT1H
BEGIN:VTIMEZONE
TZID:America/New_York
BEGIN:DAYLIGHT
TZOFFSETFROM:-0500
TZOFFSETTO:-0400
TZNAME:EDT
DTSTART:20250309T070000
END:DAYLIGHT
BEGIN:STANDARD
TZOFFSETFROM:-0400
TZOFFSETTO:-0500
TZNAME:EST
DTSTART:20251102T060000
END:STANDARD
BEGIN:DAYLIGHT
TZOFFSETFROM:-0500
TZOFFSETTO:-0400
TZNAME:EDT
DTSTART:20260308T070000
END:DAYLIGHT
BEGIN:STANDARD
TZOFFSETFROM:-0400
TZOFFSETTO:-0500
TZNAME:EST
DTSTART:20261101T060000
END:STANDARD
BEGIN:DAYLIGHT
TZOFFSETFROM:-0500
TZOFFSETTO:-0400
TZNAME:EDT
DTSTART:20270314T070000
END:DAYLIGHT
BEGIN:STANDARD
TZOFFSETFROM:-0400
TZOFFSETTO:-0500
TZNAME:EST
DTSTART:20271107T060000
END:STANDARD
END:VTIMEZONE
BEGIN:VEVENT
DTSTART;TZID=America/New_York:20260827T190000
DTEND;TZID=America/New_York:20260827T190000
DTSTAMP:20260425T102112
CREATED:20260408T171948Z
LAST-MODIFIED:20260425T141946Z
UID:10000772-1787857200-1787857200@www.lcsonline.org
SUMMARY:Varsity Volleyball @ All Saints' Academy
DESCRIPTION:Varsity Volleyball @ All Saints’ Academy
URL:https://www.lcsonline.org/event/varsity-volleyball-all-saints-academy/
LOCATION:All Saints’ Academy
CATEGORIES:School
END:VEVENT
BEGIN:VEVENT
DTSTART;VALUE=DATE:20260828
DTEND;VALUE=DATE:20260829
DTSTAMP:20260425T102112
CREATED:20260410T160446Z
LAST-MODIFIED:20260425T141947Z
UID:10000798-1787875200-1787961599@www.lcsonline.org
SUMMARY:Varsity Football @ McLaughlin High School
DESCRIPTION:Varsity Football @ McLaughlin High School
URL:https://www.lcsonline.org/event/varsity-football-mclaughlin-high-school/
LOCATION:McLaughlin High School
CATEGORIES:School
END:VEVENT
BEGIN:VEVENT
DTSTART;TZID=America/New_York:20260831T180000
DTEND;TZID=America/New_York:20260831T180000
DTSTAMP:20260425T102112
CREATED:20260408T161946Z
LAST-MODIFIED:20260425T141947Z
UID:10000750-1788199200-1788199200@www.lcsonline.org
SUMMARY:JV Volleyball @ South Sumter High School
DESCRIPTION:JV Volleyball @ South Sumter High School
URL:https://www.lcsonline.org/event/jv-volleyball-south-sumter-high-school/
LOCATION:South Sumter High School
CATEGORIES:School
END:VEVENT
BEGIN:VEVENT
DTSTART;TZID=America/New_York:20260831T190000
DTEND;TZID=America/New_York:20260831T190000
DTSTAMP:20260425T102112
CREATED:20260408T171949Z
LAST-MODIFIED:20260425T141947Z
UID:10000773-1788202800-1788202800@www.lcsonline.org
SUMMARY:Varsity Volleyball @ South Sumter HS
DESCRIPTION:Varsity Volleyball @ South Sumter HS
URL:https://www.lcsonline.org/event/varsity-volleyball-south-sumter-hs/
LOCATION:South Sumter High School
CATEGORIES:School
END:VEVENT
BEGIN:VEVENT
DTSTART;TZID=America/New_York:20260901T160000
DTEND;TZID=America/New_York:20260901T160000
DTSTAMP:20260425T102112
CREATED:20260423T130605Z
LAST-MODIFIED:20260425T141947Z
UID:10000817-1788278400-1788278400@www.lcsonline.org
SUMMARY:Girls Golf vs. Mulberry High School
DESCRIPTION:Girls Golf vs. Mulberry High School
URL:https://www.lcsonline.org/event/girls-golf-vs-mulberry-high-school/
LOCATION:Cleveland Heights Golf Course
CATEGORIES:School
END:VEVENT
BEGIN:VEVENT
DTSTART;TZID=America/New_York:20260901T163000
DTEND;TZID=America/New_York:20260901T163000
DTSTAMP:20260425T102112
CREATED:20260407T174941Z
LAST-MODIFIED:20260425T141947Z
UID:10000738-1788280200-1788280200@www.lcsonline.org
SUMMARY:MS-A Volleyball vs. Winter Haven Christian
DESCRIPTION:MS-A Volleyball vs. Winter Haven Christian
URL:https://www.lcsonline.org/event/ms-a-volleyball-vs-winter-haven-christian/
CATEGORIES:School
END:VEVENT
BEGIN:VEVENT
DTSTART;TZID=America/New_York:20260901T173000
DTEND;TZID=America/New_York:20260901T173000
DTSTAMP:20260425T102112
CREATED:20260408T165043Z
LAST-MODIFIED:20260425T141947Z
UID:10000760-1788283800-1788283800@www.lcsonline.org
SUMMARY:JV Volleyball vs. Winter Haven Christian
DESCRIPTION:JV Volleyball vs. Winter Haven Christian
URL:https://www.lcsonline.org/event/jv-volleyball-vs-winter-haven-christian/
CATEGORIES:School
END:VEVENT
BEGIN:VEVENT
DTSTART;TZID=America/New_York:20260901T183000
DTEND;TZID=America/New_York:20260901T183000
DTSTAMP:20260425T102112
CREATED:20260408T171949Z
LAST-MODIFIED:20260425T141947Z
UID:10000774-1788287400-1788287400@www.lcsonline.org
SUMMARY:Varsity Volleyball vs. Winter Haven Christian
DESCRIPTION:Varsity Volleyball vs. Winter Haven Christian
URL:https://www.lcsonline.org/event/varsity-volleyball-vs-winter-haven-christian/
CATEGORIES:School
END:VEVENT
BEGIN:VEVENT
DTSTART;VALUE=DATE:20260903
DTEND;VALUE=DATE:20260904
DTSTAMP:20260425T102112
CREATED:20260408T174945Z
LAST-MODIFIED:20260425T141947Z
UID:10000784-1788393600-1788479999@www.lcsonline.org
SUMMARY:MS Football @ Seffner Christian Academy
DESCRIPTION:MS Football @ Seffner Christian Academy
URL:https://www.lcsonline.org/event/ms-football-seffner-christian-academy/
LOCATION:Seffner Christian Academy
CATEGORIES:School
END:VEVENT
BEGIN:VEVENT
DTSTART;TZID=America/New_York:20260903T170000
DTEND;TZID=America/New_York:20260903T170000
DTSTAMP:20260425T102112
CREATED:20260408T165043Z
LAST-MODIFIED:20260425T141947Z
UID:10000761-1788454800-1788454800@www.lcsonline.org
SUMMARY:JV Volleyball @ North Tampa Christian
DESCRIPTION:JV Volleyball @ North Tampa Christian
URL:https://www.lcsonline.org/event/jv-volleyball-north-tampa-christian/
LOCATION:North Tampa Christian Academy
CATEGORIES:School
END:VEVENT
BEGIN:VEVENT
DTSTART;TZID=America/New_York:20260903T180000
DTEND;TZID=America/New_York:20260903T180000
DTSTAMP:20260425T102112
CREATED:20260408T171949Z
LAST-MODIFIED:20260425T141947Z
UID:10000775-1788458400-1788458400@www.lcsonline.org
SUMMARY:Varsity Volleyball @ North Tampa Christian
DESCRIPTION:Varsity Volleyball @ North Tampa Christian
URL:https://www.lcsonline.org/event/varsity-volleyball-north-tampa-christian/
LOCATION:North Tampa Christian Academy
CATEGORIES:School
END:VEVENT
BEGIN:VEVENT
DTSTART;TZID=America/New_York:20260904T193000
DTEND;TZID=America/New_York:20260904T193000
DTSTAMP:20260425T102112
CREATED:20260410T160447Z
LAST-MODIFIED:20260425T141947Z
UID:10000799-1788550200-1788550200@www.lcsonline.org
SUMMARY:Varsity Football vs. Fort Meade High School
DESCRIPTION:Varsity Football vs. Fort Meade High School
URL:https://www.lcsonline.org/event/varsity-football-vs-fort-meade-high-school/
CATEGORIES:School
END:VEVENT
BEGIN:VEVENT
DTSTART;VALUE=DATE:20260907
DTEND;VALUE=DATE:20260908
DTSTAMP:20260425T102112
CREATED:20260225T195119Z
LAST-MODIFIED:20260425T141947Z
UID:10000661-1788739200-1788825599@www.lcsonline.org
SUMMARY:No School - Labor Day
DESCRIPTION:No School – Labor Day
URL:https://www.lcsonline.org/event/no-school-labor-day/
CATEGORIES:School
END:VEVENT
BEGIN:VEVENT
DTSTART;TZID=America/New_York:20260908T160000
DTEND;TZID=America/New_York:20260908T160000
DTSTAMP:20260425T102112
CREATED:20260407T171939Z
LAST-MODIFIED:20260425T141947Z
UID:10000728-1788883200-1788883200@www.lcsonline.org
SUMMARY:MS-B Volleyball vs. St. Paul Lutheran
DESCRIPTION:MS-B Volleyball vs. St. Paul Lutheran
URL:https://www.lcsonline.org/event/ms-b-volleyball-vs-st-paul-lutheran/
CATEGORIES:School
END:VEVENT
BEGIN:VEVENT
DTSTART;TZID=America/New_York:20260908T170000
DTEND;TZID=America/New_York:20260908T170000
DTSTAMP:20260425T102112
CREATED:20260407T174941Z
LAST-MODIFIED:20260425T141947Z
UID:10000739-1788886800-1788886800@www.lcsonline.org
SUMMARY:MS-A Volleyball vs. St. Paul Lutheran School
DESCRIPTION:MS-A Volleyball vs. St. Paul Lutheran School
URL:https://www.lcsonline.org/event/ms-a-volleyball-vs-st-paul-lutheran-school/
CATEGORIES:School
END:VEVENT
BEGIN:VEVENT
DTSTART;TZID=America/New_York:20260910T163000
DTEND;TZID=America/New_York:20260910T163000
DTSTAMP:20260425T102112
CREATED:20260407T174941Z
LAST-MODIFIED:20260425T141948Z
UID:10000740-1789057800-1789057800@www.lcsonline.org
SUMMARY:MS-A Volleyball vs. Tampa Bay HEAT
DESCRIPTION:MS-A Volleyball vs. Tampa Bay HEAT
URL:https://www.lcsonline.org/event/ms-a-volleyball-vs-tampa-bay-heat/
CATEGORIES:School
END:VEVENT
BEGIN:VEVENT
DTSTART;TZID=America/New_York:20260910T163000
DTEND;TZID=America/New_York:20260910T163000
DTSTAMP:20260425T102112
CREATED:20260423T130606Z
LAST-MODIFIED:20260425T141947Z
UID:10000818-1789057800-1789057800@www.lcsonline.org
SUMMARY:Girls Golf @ Sebring High School
DESCRIPTION:Girls Golf @ Sebring High School
URL:https://www.lcsonline.org/event/girls-golf-sebring-high-school/
LOCATION:Sebring High School
CATEGORIES:School
END:VEVENT
BEGIN:VEVENT
DTSTART;TZID=America/New_York:20260910T173000
DTEND;TZID=America/New_York:20260910T173000
DTSTAMP:20260425T102112
CREATED:20260408T165044Z
LAST-MODIFIED:20260425T141948Z
UID:10000762-1789061400-1789061400@www.lcsonline.org
SUMMARY:JV Volleyball vs. Tampa Bay HEAT
DESCRIPTION:JV Volleyball vs. Tampa Bay HEAT
URL:https://www.lcsonline.org/event/jv-volleyball-vs-tampa-bay-heat/
CATEGORIES:School
END:VEVENT
BEGIN:VEVENT
DTSTART;TZID=America/New_York:20260910T180000
DTEND;TZID=America/New_York:20260910T180000
DTSTAMP:20260425T102112
CREATED:20260408T174945Z
LAST-MODIFIED:20260425T141948Z
UID:10000785-1789063200-1789063200@www.lcsonline.org
SUMMARY:MS Football vs. Northside Christian School
DESCRIPTION:MS Football vs. Northside Christian School
URL:https://www.lcsonline.org/event/ms-football-vs-northside-christian-school/
CATEGORIES:School
END:VEVENT
BEGIN:VEVENT
DTSTART;TZID=America/New_York:20260910T183000
DTEND;TZID=America/New_York:20260910T183000
DTSTAMP:20260425T102112
CREATED:20260408T171949Z
LAST-MODIFIED:20260425T141948Z
UID:10000776-1789065000-1789065000@www.lcsonline.org
SUMMARY:Varsity Volleyball vs. Tampa Bay HEAT
DESCRIPTION:Varsity Volleyball vs. Tampa Bay HEAT
URL:https://www.lcsonline.org/event/varsity-volleyball-vs-tampa-bay-heat/
CATEGORIES:School
END:VEVENT
BEGIN:VEVENT
DTSTART;TZID=America/New_York:20260910T193000
DTEND;TZID=America/New_York:20260910T193000
DTSTAMP:20260425T102112
CREATED:20260410T160448Z
LAST-MODIFIED:20260425T141948Z
UID:10000800-1789068600-1789068600@www.lcsonline.org
SUMMARY:Varsity Football vs. St. Andrew's
DESCRIPTION:Varsity Football vs. St. Andrew’s
URL:https://www.lcsonline.org/event/varsity-football-vs-st-andrews/
CATEGORIES:School
END:VEVENT
BEGIN:VEVENT
DTSTART;VALUE=DATE:20260911
DTEND;VALUE=DATE:20260912
DTSTAMP:20260425T102112
CREATED:20260408T171950Z
LAST-MODIFIED:20260425T141948Z
UID:10000777-1789084800-1789171199@www.lcsonline.org
SUMMARY:Varsity Volleyball - All Saints' Academy Tourn.
DESCRIPTION:Varsity Volleyball – All Saints’ Academy Tourn.
URL:https://www.lcsonline.org/event/varsity-volleyball-all-saints-academy-tourn/
LOCATION:All Saints’ Academy
CATEGORIES:School
END:VEVENT
BEGIN:VEVENT
DTSTART;VALUE=DATE:20260912
DTEND;VALUE=DATE:20260913
DTSTAMP:20260425T102112
CREATED:20260408T171950Z
LAST-MODIFIED:20260425T141948Z
UID:10000778-1789171200-1789257599@www.lcsonline.org
SUMMARY:Varsity Volleyball - All Saints' Academy Tourn.
DESCRIPTION:Varsity Volleyball – All Saints’ Academy Tourn.
URL:https://www.lcsonline.org/event/varsity-volleyball-all-saints-academy-tourn-2/
LOCATION:All Saints’ Academy
CATEGORIES:School
END:VEVENT
BEGIN:VEVENT
DTSTART;TZID=America/New_York:20260914T163000
DTEND;TZID=America/New_York:20260914T163000
DTSTAMP:20260425T102112
CREATED:20260407T171939Z
LAST-MODIFIED:20260425T141948Z
UID:10000729-1789403400-1789403400@www.lcsonline.org
SUMMARY:MS-B Volleyball @ St. Joseph's Catholic
DESCRIPTION:MS-B Volleyball @ St. Joseph’s Catholic
URL:https://www.lcsonline.org/event/ms-b-volleyball-st-josephs-catholic/
LOCATION:St. Joseph’s Catholic School
CATEGORIES:School
END:VEVENT
BEGIN:VEVENT
DTSTART;TZID=America/New_York:20260914T173000
DTEND;TZID=America/New_York:20260914T173000
DTSTAMP:20260425T102112
CREATED:20260407T174942Z
LAST-MODIFIED:20260425T141948Z
UID:10000741-1789407000-1789407000@www.lcsonline.org
SUMMARY:MS-A Volleyball @ St. Joseph's Catholic
DESCRIPTION:MS-A Volleyball @ St. Joseph’s Catholic
URL:https://www.lcsonline.org/event/ms-a-volleyball-st-josephs-catholic/
LOCATION:St. Joseph’s Catholic School
CATEGORIES:School
END:VEVENT
BEGIN:VEVENT
DTSTART;TZID=America/New_York:20260914T183000
DTEND;TZID=America/New_York:20260914T183000
DTSTAMP:20260425T102112
CREATED:20260408T165044Z
LAST-MODIFIED:20260425T141948Z
UID:10000763-1789410600-1789410600@www.lcsonline.org
SUMMARY:JV Volleyball vs. Frostproof High School
DESCRIPTION:JV Volleyball vs. Frostproof High School
URL:https://www.lcsonline.org/event/jv-volleyball-vs-frostproof-high-school/
CATEGORIES:School
END:VEVENT
BEGIN:VEVENT
DTSTART;TZID=America/New_York:20260914T190000
DTEND;TZID=America/New_York:20260914T190000
DTSTAMP:20260425T102112
CREATED:20260408T174946Z
LAST-MODIFIED:20260425T141948Z
UID:10000786-1789412400-1789412400@www.lcsonline.org
SUMMARY:Varsity Volleyball vs. Frostproof High School
DESCRIPTION:Varsity Volleyball vs. Frostproof High School
URL:https://www.lcsonline.org/event/varsity-volleyball-vs-frostproof-high-school/
CATEGORIES:School
END:VEVENT
BEGIN:VEVENT
DTSTART;TZID=America/New_York:20260915T163000
DTEND;TZID=America/New_York:20260915T163000
DTSTAMP:20260425T102112
CREATED:20260407T171939Z
LAST-MODIFIED:20260425T141948Z
UID:10000730-1789489800-1789489800@www.lcsonline.org
SUMMARY:MS-B Volleyball @ Victory Christian Academy
DESCRIPTION:MS-B Volleyball @ Victory Christian Academy
URL:https://www.lcsonline.org/event/ms-b-volleyball-victory-christian-academy/
LOCATION:Victory Christian Academy
CATEGORIES:School
END:VEVENT
BEGIN:VEVENT
DTSTART;TZID=America/New_York:20260915T173000
DTEND;TZID=America/New_York:20260915T173000
DTSTAMP:20260425T102112
CREATED:20260408T165044Z
LAST-MODIFIED:20260425T141948Z
UID:10000764-1789493400-1789493400@www.lcsonline.org
SUMMARY:JV Volleyball @ Victory Christian Academy
DESCRIPTION:JV Volleyball @ Victory Christian Academy
URL:https://www.lcsonline.org/event/jv-volleyball-victory-christian-academy/
LOCATION:Victory Christian Academy
CATEGORIES:School
END:VEVENT
BEGIN:VEVENT
DTSTART;TZID=America/New_York:20260915T183000
DTEND;TZID=America/New_York:20260915T183000
DTSTAMP:20260425T102112
CREATED:20260408T174946Z
LAST-MODIFIED:20260425T141948Z
UID:10000787-1789497000-1789497000@www.lcsonline.org
SUMMARY:Varsity Volleyball @ Victory Christian Academy
DESCRIPTION:Varsity Volleyball @ Victory Christian Academy
URL:https://www.lcsonline.org/event/varsity-volleyball-victory-christian-academy/
LOCATION:Victory Christian Academy
CATEGORIES:School
END:VEVENT
END:VCALENDAR