BEGIN:VCALENDAR
VERSION:2.0
PRODID:-//Lakeland Christian School - ECPv6.15.20//NONSGML v1.0//EN
CALSCALE:GREGORIAN
METHOD:PUBLISH
X-ORIGINAL-URL:https://www.lcsonline.org
X-WR-CALDESC:Events for Lakeland Christian School
REFRESH-INTERVAL;VALUE=DURATION:PT1H
X-Robots-Tag:noindex
X-PUBLISHED-TTL:PT1H
BEGIN:VTIMEZONE
TZID:America/New_York
BEGIN:DAYLIGHT
TZOFFSETFROM:-0500
TZOFFSETTO:-0400
TZNAME:EDT
DTSTART:20250309T070000
END:DAYLIGHT
BEGIN:STANDARD
TZOFFSETFROM:-0400
TZOFFSETTO:-0500
TZNAME:EST
DTSTART:20251102T060000
END:STANDARD
BEGIN:DAYLIGHT
TZOFFSETFROM:-0500
TZOFFSETTO:-0400
TZNAME:EDT
DTSTART:20260308T070000
END:DAYLIGHT
BEGIN:STANDARD
TZOFFSETFROM:-0400
TZOFFSETTO:-0500
TZNAME:EST
DTSTART:20261101T060000
END:STANDARD
BEGIN:DAYLIGHT
TZOFFSETFROM:-0500
TZOFFSETTO:-0400
TZNAME:EDT
DTSTART:20270314T070000
END:DAYLIGHT
BEGIN:STANDARD
TZOFFSETFROM:-0400
TZOFFSETTO:-0500
TZNAME:EST
DTSTART:20271107T060000
END:STANDARD
END:VTIMEZONE
BEGIN:VEVENT
DTSTART;TZID=America/New_York:20260818T160000
DTEND;TZID=America/New_York:20260818T160000
DTSTAMP:20260425T181836
CREATED:20260423T130604Z
LAST-MODIFIED:20260425T214936Z
UID:10000815-1787068800-1787068800@www.lcsonline.org
SUMMARY:Girls Golf vs. McKeel Academy
DESCRIPTION:Girls Golf vs. McKeel Academy
URL:https://www.lcsonline.org/event/girls-golf-vs-mckeel-academy/
LOCATION:Cleveland Heights Golf Course
CATEGORIES:School
END:VEVENT
BEGIN:VEVENT
DTSTART;TZID=America/New_York:20260901T160000
DTEND;TZID=America/New_York:20260901T160000
DTSTAMP:20260425T181836
CREATED:20260423T130605Z
LAST-MODIFIED:20260425T214937Z
UID:10000817-1788278400-1788278400@www.lcsonline.org
SUMMARY:Girls Golf vs. Mulberry High School
DESCRIPTION:Girls Golf vs. Mulberry High School
URL:https://www.lcsonline.org/event/girls-golf-vs-mulberry-high-school/
LOCATION:Cleveland Heights Golf Course
CATEGORIES:School
END:VEVENT
BEGIN:VEVENT
DTSTART;TZID=America/New_York:20261006T160000
DTEND;TZID=America/New_York:20261006T160000
DTSTAMP:20260425T181836
CREATED:20260423T130610Z
LAST-MODIFIED:20260425T214940Z
UID:10000821-1791302400-1791302400@www.lcsonline.org
SUMMARY:Girls Golv vs. Auburndale High School
DESCRIPTION:Girls Golv vs. Auburndale High School
URL:https://www.lcsonline.org/event/girls-golv-vs-auburndale-high-school/
LOCATION:Cleveland Heights Golf Course
CATEGORIES:School
END:VEVENT
BEGIN:VEVENT
DTSTART;TZID=America/New_York:20261013T160000
DTEND;TZID=America/New_York:20261013T160000
DTSTAMP:20260425T181836
CREATED:20260423T130610Z
LAST-MODIFIED:20260425T214941Z
UID:10000822-1791907200-1791907200@www.lcsonline.org
SUMMARY:Girls Golf vs. Sebring High School
DESCRIPTION:Girls Golf vs. Sebring High School
URL:https://www.lcsonline.org/event/girls-golf-vs-sebring-high-school/
LOCATION:Cleveland Heights Golf Course
CATEGORIES:School
END:VEVENT
END:VCALENDAR