BEGIN:VCALENDAR
VERSION:2.0
PRODID:-//Lakeland Christian School - ECPv6.15.20//NONSGML v1.0//EN
CALSCALE:GREGORIAN
METHOD:PUBLISH
X-ORIGINAL-URL:https://www.lcsonline.org
X-WR-CALDESC:Events for Lakeland Christian School
REFRESH-INTERVAL;VALUE=DURATION:PT1H
X-Robots-Tag:noindex
X-PUBLISHED-TTL:PT1H
BEGIN:VTIMEZONE
TZID:America/New_York
BEGIN:DAYLIGHT
TZOFFSETFROM:-0500
TZOFFSETTO:-0400
TZNAME:EDT
DTSTART:20250309T070000
END:DAYLIGHT
BEGIN:STANDARD
TZOFFSETFROM:-0400
TZOFFSETTO:-0500
TZNAME:EST
DTSTART:20251102T060000
END:STANDARD
BEGIN:DAYLIGHT
TZOFFSETFROM:-0500
TZOFFSETTO:-0400
TZNAME:EDT
DTSTART:20260308T070000
END:DAYLIGHT
BEGIN:STANDARD
TZOFFSETFROM:-0400
TZOFFSETTO:-0500
TZNAME:EST
DTSTART:20261101T060000
END:STANDARD
BEGIN:DAYLIGHT
TZOFFSETFROM:-0500
TZOFFSETTO:-0400
TZNAME:EDT
DTSTART:20270314T070000
END:DAYLIGHT
BEGIN:STANDARD
TZOFFSETFROM:-0400
TZOFFSETTO:-0500
TZNAME:EST
DTSTART:20271107T060000
END:STANDARD
END:VTIMEZONE
BEGIN:VEVENT
DTSTART;TZID=America/New_York:20260827T180000
DTEND;TZID=America/New_York:20260827T180000
DTSTAMP:20260421T161915
CREATED:20260408T174944Z
LAST-MODIFIED:20260421T194937Z
UID:10000783-1787853600-1787853600@www.lcsonline.org
SUMMARY:MS Football @ Foundation Academy
DESCRIPTION:MS Football @ Foundation Academy
URL:https://www.lcsonline.org/event/ms-football-foundation-academy/
LOCATION:Foundation Academy
CATEGORIES:School
END:VEVENT
END:VCALENDAR